BEGIN:VCALENDAR
VERSION:2.0
PRODID:-//wp-events-plugin.com//7.2.3.1//EN
TZID:America/Campo_Grande
X-WR-TIMEZONE:America/Campo_Grande
BEGIN:VEVENT
UID:64@sejusp.ms.gov.br
DTSTART;TZID=America/Campo_Grande:20230522T080000
DTEND;TZID=America/Campo_Grande:20230522T100000
DTSTAMP:20230518T133956Z
URL:https://www.sejusp.ms.gov.br/agenda/agenda-externa-3/
SUMMARY:Agenda Externa
DESCRIPTION:Solenidade de posse dos novos escrivães da Polícia Civil do M
 ato Grosso do Sul.
CATEGORIES:Agenda do Secretário
LOCATION:Acadepol/MS\, Rua Delegado Osmar de Camargo\, S/N.º - Jardim Vera
 neio\, Campo Grande\, MS\, 4534534   \,     cfgdfg\, Brasil
X-APPLE-STRUCTURED-LOCATION;VALUE=URI;X-ADDRESS=Rua Delegado Osmar de Camar
 go\, S/N.º - Jardim Veraneio\, Campo Grande\, MS\, 4534534   \,     cfgdf
 g\, Brasil;X-APPLE-RADIUS=100;X-TITLE=Acadepol/MS:geo:0,0
END:VEVENT
BEGIN:VTIMEZONE
TZID:America/Campo_Grande
X-LIC-LOCATION:America/Campo_Grande
BEGIN:STANDARD
DTSTART:20220522T080000
TZOFFSETFROM:-0400
TZOFFSETTO:-0400
TZNAME:-04
END:STANDARD
END:VTIMEZONE
END:VCALENDAR